BEGIN:VCALENDAR
VERSION:2.0
PRODID:-//Kennedy Real Estate and Auction LLC. - ECPv6.15.13//NONSGML v1.0//EN
CALSCALE:GREGORIAN
METHOD:PUBLISH
X-WR-CALNAME:Kennedy Real Estate and Auction LLC.
X-ORIGINAL-URL:https://kennedyauctions.com
X-WR-CALDESC:Events for Kennedy Real Estate and Auction LLC.
REFRESH-INTERVAL;VALUE=DURATION:PT1H
X-Robots-Tag:noindex
X-PUBLISHED-TTL:PT1H
BEGIN:VTIMEZONE
TZID:America/New_York
BEGIN:DAYLIGHT
TZOFFSETFROM:-0500
TZOFFSETTO:-0400
TZNAME:EDT
DTSTART:20240310T070000
END:DAYLIGHT
BEGIN:STANDARD
TZOFFSETFROM:-0400
TZOFFSETTO:-0500
TZNAME:EST
DTSTART:20241103T060000
END:STANDARD
BEGIN:DAYLIGHT
TZOFFSETFROM:-0500
TZOFFSETTO:-0400
TZNAME:EDT
DTSTART:20250309T070000
END:DAYLIGHT
BEGIN:STANDARD
TZOFFSETFROM:-0400
TZOFFSETTO:-0500
TZNAME:EST
DTSTART:20251102T060000
END:STANDARD
BEGIN:DAYLIGHT
TZOFFSETFROM:-0500
TZOFFSETTO:-0400
TZNAME:EDT
DTSTART:20260308T070000
END:DAYLIGHT
BEGIN:STANDARD
TZOFFSETFROM:-0400
TZOFFSETTO:-0500
TZNAME:EST
DTSTART:20261101T060000
END:STANDARD
END:VTIMEZONE
BEGIN:VEVENT
DTSTART;TZID=America/New_York:20250902T103000
DTEND;TZID=America/New_York:20251001T170000
DTSTAMP:20260421T165408
CREATED:20250730T203607Z
LAST-MODIFIED:20250908T212627Z
UID:15475-1756809000-1759338000@kennedyauctions.com
SUMMARY:COMING SOON!! FALL SCHEDULE PROPERTY AUCTION
DESCRIPTION: COMING SOON! THIS FALL \nOUR UPCOMING FALL SCHEDULE OF PRIME PROPERTY AUCTIONS. \n ⇒ 43± ACRES THE GRINSTEAD FARM FRONTING ERNEST MCMAHAN RD\,  \nJUST OUTSIDE THE CITY LIMITS\, OFFERED IN LARGE BEAUTIFUL BUILDING  \nSITES OR AS A WHOLE FEATURING LOCATION\, TREMENDOUS MOUNTAIN  \nVIEWS. ZONED R-1 \n⇒  THE BALES FARM FRONTING N SHILOH RD GREAT SEYMOUR LOCATION\, 20± ACRES WITH LOTS OF ROAD FRONTAGE. SUBDIVIDED INTO 4 LARGE -5ACRE  TRACTS. ONLY 0.75 MILES FROM BOYDS CREEK HWY. HARD TO FIND GOOD SEYMOUR ACREAGE. A-1   \n⇒ THE FRANK LATHAM FARM\, 50± ACRES 4 BEDROOM\, 2 BATH HOUSE\, BARNS & OUTBUILDINGS IN THE QUIET DRIPPING SPRINGS COMMUNITY.  OFFERED IN TRACTS\, ONE TRACT 30± ACRES OF BEAUTIFUL CREEK BOTTOM FRONTAGE ON ELLEJOY CREEK\, YEAR ROUND WATER\, PASTURE AND WOODLAND. GOOD BUILDING SITE. ZONED A-1 \n⇒ 1 ACRE TRACT OFF VALLEY VIEW RD\, IN THE HISTORIC WEARS VALLEY COMMUNITY\, HAS HAD A DOUBLE WIDE HOME. OWNER SAYS A WELL & SEPTIC ARE ON THE PROPERTY. BEAUTIFUL LEVEL BUILDING SITE. UNRESTRICTED. \n⇒ THE BOHANAN ESTATE – 3 BEDROOM BRICK HOME FRONTING SMITHWOOD RD\, GREAT LOCATION WITHIN THE CORPORATE CITY LIMITS OF SEVIERVILLE\, OFF CATE RD. CONVENIENT TO PARKWAY. ZONED R-2. \n⇒ THE CHARLES BROOKS ESTATE –DOUBLE WIDE HOME AND LOT IN BEAUTIFUL ROCKY FLATS. LEVEL SHADED LOT IMPROVED WITH OLDER DOUBLE WIDE IN NEED OF A LITTLE TLC. FRONTING OTTO WILLIAMS RD\, COSBY. ZONED A-1 \n⇒ 16± WOODED ACRES. HEAVILY WOODED\, LARGE PRIVATE TRACT IN THE  DRIPPING SPRINGS COMMUNITY. ZONED A-1. \n⇒ 3 BEDROOM\, 2 FULL BATH HOME OFF ASHEVILLE HWY\, SITUATED ON A BIG 3 ACRE TRACT\, WELL & SEPTIC. EXCELLENT FLOOR PLAN\, LARGE KITCHEN – LIVING ROOM COMBO\, 2 CAR GARAGE\, LARGE SUITE WITH BIG WALK-IN CLOSET\, JACUZZI BATH & SHOWER. APPROXIMATELY 1700 SQ/FT. ZONED A-1. TRACT 2 OF THE MATTHEWS PROPERTY. \n⇒ 3 ACRE UNRESTRICTED TRACT ADJOINING THE ABOVE DESCRIBED PROPERTY OFF ASHEVILLE HWY. PART OF THE SAME ESTATE PROPERTY. ZONED A-1. TRACT 1 OF THE MATTHEWS PROPERTY. \nMORE INFORMATION COMING SOON. IF YOU HAVE A PROPERTY YOU WOULD LIKE TO SELL OR CONSIGN TO OUR FALL SCHEDULE\, PLEASE CALL OUR OFFICE AT 865-908-8611. 
URL:https://kennedyauctions.com/event/coming-soon-fall-schedule-property-auction/
LOCATION:Kennedy Real Estate & Auction Co. LLC\, 1820 Chapman Highway\, Sevierville\, TN\, 37876\, United States
CATEGORIES:Auctions,Estate Auction,Multiple Property Auction,Online & Live auction,Property Auction,Residential Lots,Residential Property
ATTACH;FMTTYPE=image/jpeg:https://kennedyauctions.com/wp-content/uploads/2025/07/20250627_150626.jpg
END:VEVENT
END:VCALENDAR