BEGIN:VCALENDAR
VERSION:2.0
PRODID:-//Kennedy Real Estate and Auction LLC. - ECPv6.15.13//NONSGML v1.0//EN
CALSCALE:GREGORIAN
METHOD:PUBLISH
X-ORIGINAL-URL:https://kennedyauctions.com
X-WR-CALDESC:Events for Kennedy Real Estate and Auction LLC.
REFRESH-INTERVAL;VALUE=DURATION:PT1H
X-Robots-Tag:noindex
X-PUBLISHED-TTL:PT1H
BEGIN:VTIMEZONE
TZID:America/New_York
BEGIN:DAYLIGHT
TZOFFSETFROM:-0500
TZOFFSETTO:-0400
TZNAME:EDT
DTSTART:20200308T070000
END:DAYLIGHT
BEGIN:STANDARD
TZOFFSETFROM:-0400
TZOFFSETTO:-0500
TZNAME:EST
DTSTART:20201101T060000
END:STANDARD
BEGIN:DAYLIGHT
TZOFFSETFROM:-0500
TZOFFSETTO:-0400
TZNAME:EDT
DTSTART:20210314T070000
END:DAYLIGHT
BEGIN:STANDARD
TZOFFSETFROM:-0400
TZOFFSETTO:-0500
TZNAME:EST
DTSTART:20211107T060000
END:STANDARD
BEGIN:DAYLIGHT
TZOFFSETFROM:-0500
TZOFFSETTO:-0400
TZNAME:EDT
DTSTART:20220313T070000
END:DAYLIGHT
BEGIN:STANDARD
TZOFFSETFROM:-0400
TZOFFSETTO:-0500
TZNAME:EST
DTSTART:20221106T060000
END:STANDARD
END:VTIMEZONE
BEGIN:VEVENT
DTSTART;TZID=America/New_York:20210309T090000
DTEND;TZID=America/New_York:20210313T180000
DTSTAMP:20260421T134330
CREATED:20210309T180137Z
LAST-MODIFIED:20210309T180137Z
UID:7977-1615280400-1615658400@kennedyauctions.com
SUMMARY:Guns\, Coins\, Mini Bikes & More!!!
DESCRIPTION:LIVE WEBCAST AUCTION  \n SATURDAY\, MARCH 13\, 2021 AT 11:30AM  \nIN CONJUNCTION WITH BEAR LAND REALTY & AUCTION \n 3173 NEWPORT HIGHWAY\, SEVIERVILLE\, TN \n GUNS\, MINI BIKES\, COINS\, KNIVES AND COLLECTABLES  \nLink to online bidding below \nhttps://hibid.com/catalog/268511/auction–356-guns–coins–collectibles/ \n\n		\n		\n			\n				\n			\n				\n				Hand guns\n				\n			\n				\n			\n				\n				Long guns\n				\n			\n				\n			\n				\n				Coins\n				\n			\n				\n			\n				\n				Collectables\n				\n			\n				\n			\n				\n				Mini bikes\n				\n			\n		\n\nTERMS:  NO SHIPPING! PICK UP ONLY! TO PURCHASE A PISTOL YOU MUST HAVE A VALID TN DRIVERS LICENSE. TO PURCHASE A LONG GUN YOUR STATE MUST ALLOW IT. OR WE WILL NOT TAKE YOUR BID! $10.00 BACKGROUND FEE ON ALL FIREARMS. 3% CHARGE ON CREDIT CARDS. 15% BUYERS PREMIUM. \nPREVIEW FRIDAY MARCH 12TH IN HOUSE 11:00 – 4:00PM \n15% BUYERS PREMIUM WILL BE ADDED TO ALL ONLINE BIDS\, 10% LIVE IN HOUSE BIDDERS. 3% CHARGE ON CREDIT CARDS VALID TN DRIVERS LICENSE FOR PISTOLS. STATE MUST ALLOW PURCHASE OF LONG GUNS. 10.00 FEE FOR BACKGROUND CHECKS. ALL ITEMS ARE SOLD AS IS\, WHERE IS! WE DO NOT GUARANTEE THE VALUE\, CONDITION\, OR AUTHENTICITY OF ANY ITEM. ALL DESCRIPTIONS BELIEVED ACCURATE BUT NOT WARANTEED. BIDDER INSPECTION IS ENCOURAGED. BY PLACING A BID\, BIDDER SIGNIFIES THAT THEY HAVE EXAMINED THE ITEMS TO THEIR SATISFACTION\, OR THAT THEY HAVE CHOSEN NOT TO PERSONALLY EXAMINE THEM. \nBEAR LAND REALTY & AUCTION IS A LICENSED FEDERAL FIREARMS DEALER.  \nT.A.L. #5694
URL:https://kennedyauctions.com/event/guns-coins-mini-bikes-more/
LOCATION:Bear Land Realty & Auction\, 3173 Newport Highway\, Sevierville\, TN\, 37876\, United States
CATEGORIES:Auctions,Coins,Online & Live auction
END:VEVENT
END:VCALENDAR