BEGIN:VCALENDAR
VERSION:2.0
PRODID:-//Kennedy Real Estate and Auction LLC. - ECPv6.15.13//NONSGML v1.0//EN
CALSCALE:GREGORIAN
METHOD:PUBLISH
X-WR-CALNAME:Kennedy Real Estate and Auction LLC.
X-ORIGINAL-URL:https://kennedyauctions.com
X-WR-CALDESC:Events for Kennedy Real Estate and Auction LLC.
REFRESH-INTERVAL;VALUE=DURATION:PT1H
X-Robots-Tag:noindex
X-PUBLISHED-TTL:PT1H
BEGIN:VTIMEZONE
TZID:America/New_York
BEGIN:DAYLIGHT
TZOFFSETFROM:-0500
TZOFFSETTO:-0400
TZNAME:EDT
DTSTART:20190310T070000
END:DAYLIGHT
BEGIN:STANDARD
TZOFFSETFROM:-0400
TZOFFSETTO:-0500
TZNAME:EST
DTSTART:20191103T060000
END:STANDARD
BEGIN:DAYLIGHT
TZOFFSETFROM:-0500
TZOFFSETTO:-0400
TZNAME:EDT
DTSTART:20200308T070000
END:DAYLIGHT
BEGIN:STANDARD
TZOFFSETFROM:-0400
TZOFFSETTO:-0500
TZNAME:EST
DTSTART:20201101T060000
END:STANDARD
BEGIN:DAYLIGHT
TZOFFSETFROM:-0500
TZOFFSETTO:-0400
TZNAME:EDT
DTSTART:20210314T070000
END:DAYLIGHT
BEGIN:STANDARD
TZOFFSETFROM:-0400
TZOFFSETTO:-0500
TZNAME:EST
DTSTART:20211107T060000
END:STANDARD
END:VTIMEZONE
BEGIN:VEVENT
DTSTART;VALUE=DATE:20201003
DTEND;VALUE=DATE:20201004
DTSTAMP:20260420T081000
CREATED:20200917T175516Z
LAST-MODIFIED:20200928T141707Z
UID:7451-1601683200-1601769599@kennedyauctions.com
SUMMARY:The Tommy Hayes Estate Auction
DESCRIPTION:ESTATE AUCTION \nSaturday\, October 3\, 2020 • 10:30 AM  \nTHE TOMMY HAYES ESTATE \n Beautiful Home in Belle Meadows Subdivision Plus furnishings\, Tools & Personal Property  \n1220 Briar Lea\, Sevierville\, TN 37862 \nAUCTIONEERS COMMENTS: We are excited to announce we have been commissioned by the Tommy Hayes Estate to sell this immaculate home in a very desired Sevier County Subdivision\, that features approximately 2200sq/ft\, 3 bedrooms\, 2 full baths\, a sunroom\, fireplace\, 1 car attached garage\, 2 car detached garage situated on lot 32 of Belle Meadows Subdivision. Mr. Hayes was retired from Alcoa and has amassed a collection of quality tools. Mrs. Hayes’ good quality furniture is being sold also. There is online bidding for this auction\, please click the link below to go to online bidding……..                ↓ \n  \nhttps://kennedyauction.hibid.com/catalog/235761/the-tommy-hayes-estate-auction/ \n  \nCLICK HERE FOR LIST OF ITEMS \n↓ \nhttps://documentcloud.adobe.com/link/track?uri=urn:aaid:scds:US:a25b5010-bd18-44be-8533-5c5b7f8dc383 \nTERMS:  REAL ESTATE – A 10% non- refundable deposit of the contract price will be required day of sale. Each purchaser will also be required to sign a promissory note for the full purchase price which will become null and void upon closing of the sale. This property is being sold without contingencies financial or other so please make any needed arrangements. Closings will take place on or before 30 days from sale day. This is a 10% Buyers Premium auction. 13% Buyers Premium for online bidding. Information deemed reliable but not guaranteed.Announcements made day of sale supersede any and all printed or verbal statements made by the Owners or the Auction Co.\n \nBroker Participation- 2% Broker participation\, you must register your client 72 hours prior to auction. Please call our office for information. 865-908-8611. \nPERSONAL PROPERTY –  Cash or good check for full amount day of sale. \n  \nOPEN HOUSE FRIDAY\, OCTOBER 2 \nFROM 3:00 PM TO 6:00 PM  \nOr call our office for private showing. \nDIRECTIONS: From the intersection of Winfield Dunn Parkway (Hwy 66) and Main Street (Hwy 411)\, take Main st towards Newport approximately 1.4 miles to right onto Veterans Blvd. Then in 0.38 miles\, take a left onto Middle Creek Rd\, follow Middle Cr. Rd. approximately 0.83 miles to left onto Ernest McMahan Rd. Follow Ernest McMahan for 0.58 miles to left onto Belle Meadows Blvd. In a quarter mile turn right onto Briar Lea\, sale site is second house on right. \n\n		\n		\n			\n				\n			\n				\n				1220 Briar Lea\, Sevierville\, TN 37862\n				\n			\n				\n			\n				\n				Sevierville\, TN\n				\n			\n				\n			\n				\n				1 car attached garage\n				\n			\n				\n			\n				\n				2 car detached garage\n				\n			\n		\n\n  \n  \n 
URL:https://kennedyauctions.com/event/the-tommy-hayes-estate-auction/
LOCATION:Hayes Estate\, 1220 Briar Lea\, Sevierville\, TN\, 37862\, United States
CATEGORIES:Auctions,Estate Auction,Furniture,Online & Live auction,Property Auction,Tools
ATTACH;FMTTYPE=image/jpeg:https://kennedyauctions.com/wp-content/uploads/2020/09/IMG_3797-1-scaled.jpg
END:VEVENT
END:VCALENDAR