BEGIN:VCALENDAR
VERSION:2.0
PRODID:-//Kennedy Real Estate and Auction LLC. - ECPv6.15.13//NONSGML v1.0//EN
CALSCALE:GREGORIAN
METHOD:PUBLISH
X-ORIGINAL-URL:https://kennedyauctions.com
X-WR-CALDESC:Events for Kennedy Real Estate and Auction LLC.
REFRESH-INTERVAL;VALUE=DURATION:PT1H
X-Robots-Tag:noindex
X-PUBLISHED-TTL:PT1H
BEGIN:VTIMEZONE
TZID:America/New_York
BEGIN:DAYLIGHT
TZOFFSETFROM:-0500
TZOFFSETTO:-0400
TZNAME:EDT
DTSTART:20190310T070000
END:DAYLIGHT
BEGIN:STANDARD
TZOFFSETFROM:-0400
TZOFFSETTO:-0500
TZNAME:EST
DTSTART:20191103T060000
END:STANDARD
BEGIN:DAYLIGHT
TZOFFSETFROM:-0500
TZOFFSETTO:-0400
TZNAME:EDT
DTSTART:20200308T070000
END:DAYLIGHT
BEGIN:STANDARD
TZOFFSETFROM:-0400
TZOFFSETTO:-0500
TZNAME:EST
DTSTART:20201101T060000
END:STANDARD
BEGIN:DAYLIGHT
TZOFFSETFROM:-0500
TZOFFSETTO:-0400
TZNAME:EDT
DTSTART:20210314T070000
END:DAYLIGHT
BEGIN:STANDARD
TZOFFSETFROM:-0400
TZOFFSETTO:-0500
TZNAME:EST
DTSTART:20211107T060000
END:STANDARD
END:VTIMEZONE
BEGIN:VEVENT
DTSTART;TZID=America/New_York:20201031T103000
DTEND;TZID=America/New_York:20201031T170000
DTSTAMP:20260420T141718
CREATED:20201012T191244Z
LAST-MODIFIED:20201029T195446Z
UID:7596-1604140200-1604163600@kennedyauctions.com
SUMMARY:Multi Property Auction!
DESCRIPTION:MULTI PROPERTY \nAUCTION! \nSATURDAY\, OCTOBER 31\, 2020 • 10:30 AM  \n20 Properties Offered in 1 Day!\n \n ALL PROPERTIES TO BE SOLD FROM \n THE RIVER PLACE \n 329 River Place\, Sevierville\, TN 37862\n \nONLINE BIDDING BEGINS FRIDAY\, OCTOBER 23\, AT 6:00 PM (EST) \nLINK TO ONLINE BIDDING \nhttps://kennedyauction.hibid.com/catalog/243083/fall-multi-property-auction/ \nSALE #1 – 10 LOTS IN THE J W WILLIAMS ESTATE- CORNER OF RAYS GAP & E UNION VALLEY RD.\, SEYMOUR\, TN 37865 – Lot #8 is an Estate sized Tract that features a beautiful 4 bedroom\, 3 baths\, wraparound deck\, Gunite in-ground pool\, detached game room\, workshop/barn all situated on 4.06 +/- acres. Lot # 7 has a barn; all other lots are vacant. 10 Hard to find great building lots in the ever growing Seymour area!! City water. SCHOOLS – Boyds Creek Elementary\, Sevierville Middle School\, Gary Hardin Academy High School.\n \nDIRECTIONS: From Chapman Hwy (US-411/441) take Boyds Creek Hwy (TN-338) approx. 2.31 miles to left onto Porterfield Gap Rd\, follow 1.48 mi to right onto E Union Valley Rd. Follow for 2.98 mi it becomes Rays Gap Rd\, take first left to stay on Rays Gap\, Property on your left.\n \nCLICK HERE FOR MAP!! \nCLICK HERE FOR RESTRICTIONS! \n  \n\n		\n		\n			\n				\n			\n				\n				2270 E Union Valley Rd\n				\n			\n				\n			\n				\n				Seymour\, TN\n				\n			\n				\n			\n				\n				situated on 4.06 +/- acres\n				\n			\n				\n			\n				\n				w/ workshop /barn\n				\n			\n				\n			\n				\n				In-ground pool\n				\n			\n		\n\nSALE #2 – 8.6 +/- ACRES OF COMMERCIAL PROPERTY FRONTING VETERANS BLVD\, PIGEON FORGE\, TN 8.6+/- acres on the rapidly developing Veterans Blvd\, that serves between Sevierville and Pigeon Forge. Near Dollywood’s DreamMore Resort\, Dolly’s Splash Country & Dollywood. Within the Pigeon Forge City limits. INVESTORS TAKE PARTICULAR NOTE! THIS IS YOUR OPPORTUNITY TO GET IN ON THE GROUND FLOOR OF THE NEW GATEWAY TO DOLLYWOOD & PIGEON FORGE!!\n \n Zoned C-6- Multi Use; hotel\, motel\, amusement park or shopping!  \nDIRECTIONS: From Sevierville -Take Veterans Blvd (TN-449) approx. 3 miles to property on left. From Pigeon Forge- Take Veterans Blvd (TN-449) approx. 4 miles to property on right. \n  \nCLICK HERE FOR MAP!!! \n  \n\n		\n		\n			\n				\n			\n				\n				8.6 +/- acres- Commercial\n				\n			\n				\n			\n				\n				8.6 +/- acres- Commercial\n				\n			\n		\n\nAverage Traffic Counts \nNEAR DOLLYWOOD &  \nDOLLYWOOD’S DREAMMORE RESORT \nVeterans Blvd is the new major artery between Sevierville and Pigeon Forge. \nAs one of the main tourist attractions in the area\, it welcomes millions of visitors year after year. It’s estimated that Dollywood sees an average of 2.5 million people each year. (Source- VisitMySmokies.com) \n  \nSALE #3 – (4 )- 5 ACRE TRACTS IN MOUNTAIN GROVE SUBDIVISION\, SEYMOUR\, TN – Tracts 10\, 11\, 37\, & 38 in Mountain Grove Subdivision\, offered separately or as a whole. Beautiful views! City water. \nDIRECTIONS: From The intersection of Chapman Hwy & Boyds Cr Hwy (TN-338) take Boyds Cr Hwy approx. 2.31 mi to left onto Porterfield Gap Rd\, follow approx. 1.48 mi to right onto E Union Valley Rd. Go approx. 1.55 mi to left onto Union Valley Church Rd\, in ½ mi it turns into Creswell Rd. Go ½ mi to left onto Bobbie Jean Ln\, follow signs to property at end of cul-de-sac. \nCLICK HERE FOR MT. GROVE RESTRICTIONS \n  \nCLICK HERE FOR MAP!! \n\nSALE #4 – 70 ACRES FRONTING S. HWY 340 IN DEL RIO\, TN. 70 wooded acre tract adjoining the Cherokee National Forest & fronting S. Hwy 340 in Cocke County. Between Newport\, & Hot Springs it has a beautiful scenic view of the French Broad River. PRIVATE\, SECLUDED PROPERTY GREAT FOR HUNTING AND FISHING. \n \nDIRECTIONS: From the intersection of US-411 & TN-66 (at Bush’s Beans Visitor Center) take US-411 N appx. 5 miles to right onto  Hwy 25 70\, follow appx. 13.6 miles to left onto Highway 340/ TN-340\, follow appx. .23 miles to property. \n  \nCLICK HERE FOR MAP!!! \n  \nCLICK HERE FOR RESTRICTIONS!! \n\nSALE #5 – 20.06 +/- ACRES W/ APPX. 900 FT OF FRONTAGE ON DUNNS CREEK. Situated on the corner of Dunns Cr. & Richardsons Cove. \nDIRECTIONS: Take Pittman Center Rd to left onto Richardson Cove Road\, follow to right onto Pearl Valley Road\, property is on right. \n  \nCLICK HERE FOR MAP! \nCLICK HERE FOR 20FT EASEMENT MAP \n  \n\nSALE # 6 – LOT 5 OF LITTLE ROUNDTOP SUBDIVISION IN BLOUNT COUNTY. 5.4 +/- acres w/ approximately 1000ft of frontage on Hwy 321. Commercial or resort use.  \nDIRECTIONS: From the intersection of Parkway and US-321 (Wears Valley Rd)\, take US-321 appx. 11.1 miles to left onto Little Round Top Way. \nCLICK HERE FOR MAP!! \n  \nCLICK HERE FOR RESTRICTIONS!! \nSALE #7 – LOT 34 OF SONSHINE RIDGE SUBDIVISION IN COSBY\, TN. Approximately 1.17 acres fronting Rockpile Way in Cosby\, TN.  \nDIRECTIONS: From the intersection of Hwy 66 & US-441\, take US-441 to Gatlinburg take US-321 appx. 18.17 miles to right onto Hwy 32/ TN-32 follow 0.71 mi to left onto Liberty Rd\, follow to right onto Sonshine Ridge Rd. \n  \nCLICK HERE FOR MAP!! \nCLICK HERE FOR RESTRICTIONS! \n  \nSALE #8 – 5 WOODED ACRES FRONTING BAYSINGER RD IN PARROTTSVILLE\, TN. Tract 2 Has year round stream\, fronting Baysinger Rd.  \nDIRECTIONS: From downtown Newport follow Hwy 321 N to intersection w/ Hwy 160\, take Hwy 160 to Fowlers Grove Rd\, follow appx. 2 miles to right onto Baysinger Rd. then follow appx. 1.6 mi to property on right.  \n  \nBAYSINGER RD MAP \nTERMS: A 10% non-refundable deposit of the contract price will be required day of sale. Each purchaser will also be required to sign a promissory note for the full purchase price which will become null and void upon closing of the sale. These properties are being sold as is without contingencies financial or other\, so please make any needed arrangements. Closings will take place on or before 30 days from sale day.This is a 10% Buyers Premium Auction. If bidding online Buyers Premium is 13%. Information deemed reliable but not guaranteed. Announcements made day of sale supersede any and all printed or verbal statements made by the Owner’s or the Auction Co. \nNOTICE: Under U.S. c4582 (d) the purchaser of a single-family residence has a maximum of ten (10) days to conduct a risk assessment or inspection of the property for the presence of lead-based paint hazards. October 21\, 2020 begins this ten (10) day period. \nDIRECTIONS TO SALE SITE – From Main Street / Dolly Parton Pkwy\, take Creek Ave (next to First Horizon Bank then stay straight onto River Place. follow to the end to 329 River Place\, Sevierville\, TN 37862. \n 
URL:https://kennedyauctions.com/event/multi-property-auction-2/
LOCATION:The River Place\, 329 River Place\, Sevierville\, TN\, 37862\, United States
CATEGORIES:Commercial Property auction,Multiple Property Auction,Online & Live auction,Property Auction
ATTACH;FMTTYPE=image/jpeg:https://kennedyauctions.com/wp-content/uploads/2020/10/20200921_162625-scaled.jpg
END:VEVENT
END:VCALENDAR