BEGIN:VCALENDAR
VERSION:2.0
PRODID:-//Kennedy Real Estate and Auction LLC. - ECPv6.15.13//NONSGML v1.0//EN
CALSCALE:GREGORIAN
METHOD:PUBLISH
X-ORIGINAL-URL:https://kennedyauctions.com
X-WR-CALDESC:Events for Kennedy Real Estate and Auction LLC.
REFRESH-INTERVAL;VALUE=DURATION:PT1H
X-Robots-Tag:noindex
X-PUBLISHED-TTL:PT1H
BEGIN:VTIMEZONE
TZID:America/New_York
BEGIN:DAYLIGHT
TZOFFSETFROM:-0500
TZOFFSETTO:-0400
TZNAME:EDT
DTSTART:20200308T070000
END:DAYLIGHT
BEGIN:STANDARD
TZOFFSETFROM:-0400
TZOFFSETTO:-0500
TZNAME:EST
DTSTART:20201101T060000
END:STANDARD
BEGIN:DAYLIGHT
TZOFFSETFROM:-0500
TZOFFSETTO:-0400
TZNAME:EDT
DTSTART:20210314T070000
END:DAYLIGHT
BEGIN:STANDARD
TZOFFSETFROM:-0400
TZOFFSETTO:-0500
TZNAME:EST
DTSTART:20211107T060000
END:STANDARD
BEGIN:DAYLIGHT
TZOFFSETFROM:-0500
TZOFFSETTO:-0400
TZNAME:EDT
DTSTART:20220313T070000
END:DAYLIGHT
BEGIN:STANDARD
TZOFFSETFROM:-0400
TZOFFSETTO:-0500
TZNAME:EST
DTSTART:20221106T060000
END:STANDARD
END:VTIMEZONE
BEGIN:VEVENT
DTSTART;TZID=America/New_York:20210205T160000
DTEND;TZID=America/New_York:20210213T170000
DTSTAMP:20260421T004429
CREATED:20210205T211315Z
LAST-MODIFIED:20210212T141755Z
UID:7933-1612540800-1613235600@kennedyauctions.com
SUMMARY:TOOL AUCTION!!
DESCRIPTION:TOOL AUCTION! \nSaturday\, February 13\, 2021 at 11:30 AM Everything to be sold at  \nThe Bear Land Realty & Auction Site \n 3173 Newport Highway\, Sevierville TN 37876 \nThere will be online and live bidding! No Shipping!! \n Preview is Friday\, February 12 from 11:00 AM to 4:00 PM \nCLICK LINK BELOW FOR ONLINE BIDDING \nhttps://hibid.com/catalog/262275/tool-auction–352/ \n  \nTERMS: NO SHIPPING! 15% BUYERS PREMIUM WILL BE ADDED TO ALL ONLINE BIDS. 10% BUYERS PREMIUM WILL BE ADDED TO ALL IN-HOUSE BIDS. 3% CHARGE WILL BE ADDED TO ALL CREDIT CARDS. ALL ITEMS ARE SOLD AS IS WHERE IS. WE DO NOT GUARANTEE THE VALUE\, CONDITION\, OR AUTHENTICITY OF ANY ITEM. ALL DESCRIPTIONS BELIEVED ACCURATE BUT NOT WARANTEED. BIDDER INSPECTION IS ENCOURAGED. BY PLACING A BID\, BIDDER SIGNIFIES THAT THEY HAVE EXAMINED THE ITEMS TO THEIR SATISFACTION\, OR THAT THEY HAVE CHOSEN TO TO PERSONALLY EXAMINE THE ITEM. \n\n		\n		\n			\n				\n			\n			\n				\n			\n			\n				\n			\n			\n				\n			\n			\n				\n			\n			\n				\n			\n			\n				\n			\n			\n				\n			\n			\n				\n			\n			\n				\n			\n			\n				\n			\n			\n				\n			\n			\n				\n			\n			\n				\n			\n			\n				\n			\n			\n				\n			\n			\n				\n			\n			\n				\n			\n			\n				\n			\n			\n				\n			\n			\n				\n			\n			\n				\n			\n			\n				\n			\n			\n				\n			\n			\n				\n			\n			\n				\n			\n			\n				\n			\n			\n				\n			\n			\n				\n			\n			\n				\n			\n			\n				\n			\n			\n				\n			\n			\n		\n\n 
URL:https://kennedyauctions.com/event/tool-auction/
LOCATION:Bear Land Realty & Auction\, 3173 Newport Highway\, Sevierville\, TN\, 37876\, United States
CATEGORIES:Online & Live auction,Tools
END:VEVENT
END:VCALENDAR