BEGIN:VCALENDAR
VERSION:2.0
PRODID:-//Kennedy Real Estate and Auction LLC. - ECPv6.15.13//NONSGML v1.0//EN
CALSCALE:GREGORIAN
METHOD:PUBLISH
X-ORIGINAL-URL:https://kennedyauctions.com
X-WR-CALDESC:Events for Kennedy Real Estate and Auction LLC.
REFRESH-INTERVAL;VALUE=DURATION:PT1H
X-Robots-Tag:noindex
X-PUBLISHED-TTL:PT1H
BEGIN:VTIMEZONE
TZID:America/New_York
BEGIN:DAYLIGHT
TZOFFSETFROM:-0500
TZOFFSETTO:-0400
TZNAME:EDT
DTSTART:20200308T070000
END:DAYLIGHT
BEGIN:STANDARD
TZOFFSETFROM:-0400
TZOFFSETTO:-0500
TZNAME:EST
DTSTART:20201101T060000
END:STANDARD
BEGIN:DAYLIGHT
TZOFFSETFROM:-0500
TZOFFSETTO:-0400
TZNAME:EDT
DTSTART:20210314T070000
END:DAYLIGHT
BEGIN:STANDARD
TZOFFSETFROM:-0400
TZOFFSETTO:-0500
TZNAME:EST
DTSTART:20211107T060000
END:STANDARD
BEGIN:DAYLIGHT
TZOFFSETFROM:-0500
TZOFFSETTO:-0400
TZNAME:EDT
DTSTART:20220313T070000
END:DAYLIGHT
BEGIN:STANDARD
TZOFFSETFROM:-0400
TZOFFSETTO:-0500
TZNAME:EST
DTSTART:20221106T060000
END:STANDARD
END:VTIMEZONE
BEGIN:VEVENT
DTSTART;TZID=America/New_York:20210612T103000
DTEND;TZID=America/New_York:20210612T130000
DTSTAMP:20260422T204611
CREATED:20210526T174408Z
LAST-MODIFIED:20210607T173536Z
UID:8495-1623493800-1623502800@kennedyauctions.com
SUMMARY:2 PROPERTIES AUCTION!
DESCRIPTION:2 PROPERTIES AUCTION \nSATURDAY\, JUNE 12\, 2021 • 10:30 AM \n1259 GISTS CREEK ROAD\, SEVIERVILLE\, TN 37876 \nPROPERTY #1 – COURT ORDERED- The Darrell Stevens Estate- Tract is approximately 45 acres offered in large tracts or as a whole. Improved with a home\, garage\, barn and other outbuildings\, it has 2 wells\, lake\, beautiful open rolling pasture. Home is older with approx. 980sq/ft featuring\, 2 Bedrooms & 1 bath\, nice kitchen and living room. It has an attached washroom with washer & dryer hook ups or hook ups in the house. Detached 2 car garage is approx. 40X26 with plenty of room. Super location on Gists Creek Rd\, just 2.5 miles from Chapman Hwy & 3.35 miles from Wilderness at the Smokies lodge & Water Park\, Soaky Mountain Water Park & Hwy 66\, minutes from Sevierville\, Seymour & Pigeon Forge. Zoned A-1. \n  \nCLICK HERE FOR MAP- GISTS CREEK \n BOTH PROPERTIES TO SELL FROM GISTS CREEK BAPTIST CHURCH PARKING LOT! 1158 Gists Creek Road\, Sevierville\, TN 37876 \n  \nAUCTIONEERS COMMENTS: We have been commissioned by the Owners to liquidate these 2 Properties. Large acreage tracts in Sevier County are getting harder & harder to find. Please don’t miss your opportunity to buy at your price what you may not be able to buy at any price in the future.  \n  \nTERMS: (COURT TERMS SALE #1)-10% Deposit day of sale\, said closing to take place 30 days after the Order Confirming Sale is properly filed. Carolyn P McMahan\, Sevier County Clerk & Master (865) 453-4654. Upon confirmation by the Court\, title of the purchaser shall be absolute. Said Real Property shall be sold to highest & best bidder for cash\, in bar of all rights of redemption. Sale subject to all Court rules and regulations. NOTICE: Under U.S. c4582 (d) the purchaser of a single family residence has a maximum of ten (10) days to conduct a risk assessment or inspection of the property for the presence of lead-based paint hazards. June 2\, 2021 begins this ten (10) day period. \n (GENERAL TERMS SALE #2)-  A 10% non-refundable deposit of the contract price required day of sale. Each purchaser will also be required to sign a promissory note for the full purchase price which will become null and void upon closing of the sale. These properties are being sold as is without contingencies financial or other\, so please make any needed arrangements. This is a 10% Buyers Premium auction.  Information deemed reliable but not guaranteed. Announcements made day of sale supersede any and all printed or verbal statements made by the Owners or the Auction Co. \nDIRECTIONS: TO PROPERTY #1- (1259 Gists Creek Rd) – From Chapman Hwy\, take Zion Hill Rd approximately 1.5 miles\, Zion Hill Rd becomes Gists Creek Rd\, follow approximately 1 mile to sale site on right. From Hwy 66 (Wilderness of the Smokies) take Gists Creek Rd approximately 3.35 miles to property on left.  \n  \nNOTICE** For online bidding – In order to qualify to bid you must Escrow by wire transfer $10\,000.00 in US funds to Kennedy Real Estate & Auction’s Escrow account to be eligible to bid online for the Real Estate being offered in this auction. These funds will be held in our escrow as good faith payment. If you are not the successful bidder\, these monies will be refunded to you by Wednesday\, June 16\, 2021. Please call our office 865-908-8611 to make arrangements. Transfers must be made no later than Thursday\, June 10\, 2021 at 5:00 PM (EST). NO EXCEPTIONS! \nLINK TO ONLINE BIDDING https://hibid.com/catalog/285232/2-properties-auction/ \nPICTURES OF SALE #1 PROPERTY \n  \n\n		\n		\n			\n				\n			\n				\n				Darrell Stevens Estate – Gists Creek Rd\, Sevierville\n				\n			\n				\n			\n				\n				Darrell Stevens Estate – Gists Creek Rd\, Sevierville\n				\n			\n				\n			\n				\n				Darrell Stevens Estate – Gists Creek Rd\, Sevierville\n				\n			\n				\n			\n				\n				Darrell Stevens Estate – Gists Creek Rd\, Sevierville\n				\n			\n				\n			\n				\n				Darrell Stevens Estate – Gists Creek Rd\, Sevierville\n				\n			\n				\n			\n				\n				Darrell Stevens Estate – Gists Creek Rd\, Sevierville\n				\n			\n				\n			\n				\n				Darrell Stevens Estate – Gists Creek Rd\, Sevierville\n				\n			\n				\n			\n				\n				Darrell Stevens Estate – Gists Creek Rd\, Sevierville\n				\n			\n				\n			\n				\n				Darrell Stevens Estate – Gists Creek Rd\, Sevierville\n				\n			\n				\n			\n				\n				Darrell Stevens Estate – Gists Creek Rd\, Sevierville\n				\n			\n				\n			\n				\n				Darrell Stevens Estate – Gists Creek Rd\, Sevierville\n				\n			\n				\n			\n				\n				Darrell Stevens Estate – Gists Creek Rd\, Sevierville\n				\n			\n				\n			\n				\n				Darrell Stevens Estate – Gists Creek Rd\, Sevierville\n				\n			\n				\n			\n				\n				Darrell Stevens Estate – Gists Creek Rd\, Sevierville\n				\n			\n				\n			\n				\n				Darrell Stevens Estate – Gists Creek Rd\, Sevierville\n				\n			\n				\n			\n				\n				Darrell Stevens Estate – Gists Creek Rd\, Sevierville\n				\n			\n				\n			\n				\n				Darrell Stevens Estate – Gists Creek Rd\, Sevierville\n				\n			\n				\n			\n				\n				 Sevierville\, TN\n				\n			\n				\n			\n				\n				Darrell Stevens Estate – Gists Creek Rd\, Sevierville\n				\n			\n				\n			\n				\n				Darrell Stevens Estate – Gists Creek Rd\, Sevierville\n				\n			\n				\n			\n				\n				Darrell Stevens Estate – Gists Creek Rd\, Sevierville\n				\n			\n				\n			\n				\n				Darrell Stevens Estate – Gists Creek Rd\, Sevierville\n				\n			\n				\n			\n				\n				Darrell Stevens Estate – Gists Creek Rd\, Sevierville\n				\n			\n				\n			\n				\n				Sevierville\, TN\n				\n			\n				\n			\n				\n				Darrell Stevens Estate – Gists Creek Rd\, Sevierville\n				\n			\n				\n			\n				\n				Bath\n				\n			\n				\n			\n				\n				Kitchen\n				\n			\n				\n			\n				\n				Livingroom\n				\n			\n				\n			\n				\n				Bedroom\n				\n			\n				\n			\n				\n				Bedroom\n				\n			\n				\n			\n				\n				Bedroom\n				\n			\n				\n			\n				\n				Bedroom\n				\n			\n				\n			\n				\n				Kitchen\n				\n			\n				\n			\n				\n				Washer/dryer hook up\n				\n			\n				\n			\n				\n				Wash room\n				\n			\n				\n			\n				\n				Wash room\n				\n			\n				\n			\n				\n				Wash room\n				\n			\n				\n			\n				\n				2 Car garage\n				\n			\n				\n			\n				\n				Spacious\n				\n			\n				\n			\n				\n				2 car garage\n				\n			\n		\n\n   \nThe Brent McCarter Property- 205 Wye Drive\, Seymour\, TN 37865 \nPROPERTY #2 –  The Brent McCarter Property – Approximately 10 acres fronting Wye Drive in Seymour. City water\, Great Seymour location\, just 2/10 of a mile off 441-411 Chapman Hwy. Good views\, light restrictions.  Zoned R-1. \nDIRECTIONS TO PROPERTY #2 – (205 Wye Drive)  From Chapman Hwy\, (at the new Exxon Station) take Wye Drive approximately 2/10 of a mile to property on left. Both properties to sell from Gists Creek Baptist Church Parking Lot\, 1158 Gists Creek Road\, Sevierville. \n  \nCLICK HERE FOR MAP – WYE DR. \nPICTURES OF SALE#2 PROPERTY \n  \n\n		\n		\n			\n				\n			\n				\n				Approx. 10 acres fronting Wye Drive in Seymour.\n				\n			\n				\n			\n				\n				Approx. 10 acres fronting Wye Drive in Seymour.\n				\n			\n				\n			\n				\n				Approx. 10 acres fronting Wye Drive in Seymour.\n				\n			\n				\n			\n				\n				Just 2/10 of a mile from Chapman Hwy\n				\n			\n				\n			\n				\n				Approx. 10 acres fronting Wye Drive in Seymour.\n				\n			\n				\n			\n				\n				Approx. 10 acres fronting Wye Drive in Seymour.\n				\n			\n				\n			\n				\n				Approx. 10 acres fronting Wye Drive in Seymour.\n				\n			\n				\n			\n				\n				Views!!\n				\n			\n				\n			\n				\n				Approx. 10 acres fronting Wye Drive in Seymour.\n				\n			\n				\n			\n				\n				Just 2/10 of a mile from Chapman Hwy\n				\n			\n				\n			\n				\n				Approx. 10 acres fronting Wye Drive in Seymour.\n				\n			\n				\n			\n				\n				Approx. 10 acres fronting Wye Drive in Seymour.\n				\n			\n				\n			\n				\n				Just 2/10 of a mile from Chapman Hwy\n				\n			\n				\n			\n				\n				Approx. 10 acres fronting Wye Drive in Seymour.
URL:https://kennedyauctions.com/event/2-properties-auction/
LOCATION:Court Ordered Auction\, 1259 Gists Creek Rd\, Sevierville\, TN\, 37876\, United States
CATEGORIES:Auctions,Court Ordered,Estate Auction,Multiple Property Auction,Online & Live auction,Property Auction
ATTACH;FMTTYPE=image/jpeg:https://kennedyauctions.com/wp-content/uploads/2021/05/20210519_123829-1-scaled.jpg
END:VEVENT
END:VCALENDAR