BEGIN:VCALENDAR
VERSION:2.0
PRODID:-//Kennedy Real Estate and Auction LLC. - ECPv6.15.13//NONSGML v1.0//EN
CALSCALE:GREGORIAN
METHOD:PUBLISH
X-ORIGINAL-URL:https://kennedyauctions.com
X-WR-CALDESC:Events for Kennedy Real Estate and Auction LLC.
REFRESH-INTERVAL;VALUE=DURATION:PT1H
X-Robots-Tag:noindex
X-PUBLISHED-TTL:PT1H
BEGIN:VTIMEZONE
TZID:America/New_York
BEGIN:DAYLIGHT
TZOFFSETFROM:-0500
TZOFFSETTO:-0400
TZNAME:EDT
DTSTART:20190310T070000
END:DAYLIGHT
BEGIN:STANDARD
TZOFFSETFROM:-0400
TZOFFSETTO:-0500
TZNAME:EST
DTSTART:20191103T060000
END:STANDARD
BEGIN:DAYLIGHT
TZOFFSETFROM:-0500
TZOFFSETTO:-0400
TZNAME:EDT
DTSTART:20200308T070000
END:DAYLIGHT
BEGIN:STANDARD
TZOFFSETFROM:-0400
TZOFFSETTO:-0500
TZNAME:EST
DTSTART:20201101T060000
END:STANDARD
BEGIN:DAYLIGHT
TZOFFSETFROM:-0500
TZOFFSETTO:-0400
TZNAME:EDT
DTSTART:20210314T070000
END:DAYLIGHT
BEGIN:STANDARD
TZOFFSETFROM:-0400
TZOFFSETTO:-0500
TZNAME:EST
DTSTART:20211107T060000
END:STANDARD
END:VTIMEZONE
BEGIN:VEVENT
DTSTART;TZID=America/New_York:20200722T120000
DTEND;TZID=America/New_York:20200728T130000
DTSTAMP:20260421T194907
CREATED:20200722T152647Z
LAST-MODIFIED:20200723T184829Z
UID:7130-1595419200-1595941200@kennedyauctions.com
SUMMARY:Estate antique die cast car collection & Michael Jordan cards & more!!
DESCRIPTION:WEDNESDAY\, JULY 22 AT 12:00 NOON Bidding starts for \nABSOLUTE AUCTION!! \nONLINE ONLY- ESTATE ANTIQUE DIE CAST CAR COLLECTION  \nMICHAEL JORDAN TRADING CARDS\, STAR WARS CARDS\, \n HARRY POTTER CARDS\, STAR TREK CARDS\, \n HAND CARVED\, HAND PAINTED TWIN HEADBOARD\, PORCELAIN PIECES\,  \nANTIQUES\, TOOLS\, VINTAGE TOYS AND COLLECTIBLES\, AND MUCH MORE!! \nToo many items to mention! Click the link below to the online only auction on HiBid. \nhttps://kennedyauction.hibid.com/catalog/225010/estate-antique-die-cast–car-collection-and-michael-jordan/ \n  \nBidding ends Tuesday\, July 28\, 2020 at 1:00 PM \n There is no shipping for this auction. \n All items must be paid for within 3 business days of close of auction. Pick up will be \n Wednesday\, July 29 from 9AM to 5 PM\, \n Thursday\, July 30 from 9 AM to 5 PM and \n Friday July 31 from 9 AM to 5 PM.
URL:https://kennedyauctions.com/event/estate-antique-die-cast-car-collection-michael-jordan-cards-more/
LOCATION:Kennedy Real Estate & Auction Co. LLC\, 1820 Chapman Highway\, Sevierville\, TN\, 37876\, United States
CATEGORIES:Auctions,Die Cast toy auction,Estate Auction,Online Only,Paintings / prints auction,Toys & Collectible auction,Trading card auction
END:VEVENT
END:VCALENDAR