BEGIN:VCALENDAR
VERSION:2.0
PRODID:-//Kennedy Real Estate and Auction LLC. - ECPv6.15.13//NONSGML v1.0//EN
CALSCALE:GREGORIAN
METHOD:PUBLISH
X-WR-CALNAME:Kennedy Real Estate and Auction LLC.
X-ORIGINAL-URL:https://kennedyauctions.com
X-WR-CALDESC:Events for Kennedy Real Estate and Auction LLC.
REFRESH-INTERVAL;VALUE=DURATION:PT1H
X-Robots-Tag:noindex
X-PUBLISHED-TTL:PT1H
BEGIN:VTIMEZONE
TZID:America/New_York
BEGIN:DAYLIGHT
TZOFFSETFROM:-0500
TZOFFSETTO:-0400
TZNAME:EDT
DTSTART:20190310T070000
END:DAYLIGHT
BEGIN:STANDARD
TZOFFSETFROM:-0400
TZOFFSETTO:-0500
TZNAME:EST
DTSTART:20191103T060000
END:STANDARD
BEGIN:DAYLIGHT
TZOFFSETFROM:-0500
TZOFFSETTO:-0400
TZNAME:EDT
DTSTART:20200308T070000
END:DAYLIGHT
BEGIN:STANDARD
TZOFFSETFROM:-0400
TZOFFSETTO:-0500
TZNAME:EST
DTSTART:20201101T060000
END:STANDARD
BEGIN:DAYLIGHT
TZOFFSETFROM:-0500
TZOFFSETTO:-0400
TZNAME:EDT
DTSTART:20210314T070000
END:DAYLIGHT
BEGIN:STANDARD
TZOFFSETFROM:-0400
TZOFFSETTO:-0500
TZNAME:EST
DTSTART:20211107T060000
END:STANDARD
END:VTIMEZONE
BEGIN:VEVENT
DTSTART;TZID=America/New_York:20201109T080000
DTEND;TZID=America/New_York:20201116T120000
DTSTAMP:20260420T183244
CREATED:20201109T190921Z
LAST-MODIFIED:20201109T213045Z
UID:7740-1604908800-1605528000@kennedyauctions.com
SUMMARY:Online Only Collectables Auction
DESCRIPTION:ONLINE ONLY MULTI ESTATE COLLECTABLES AUCTION \nBIDDING BEGINS FRIDAY\, NOVEMBER 6 AT 7:30 PM\, 2020 & \n BIDDING ENDS MONDAY\, NOVEMBER 16 AT 12:00 NOON \n CLICK HERE FOR LINK TO ONLINE BIDDING ↓ \nhttps://kennedyauction.hibid.com/catalog/245970/multi-estate-collectables-auction-/ \n  \nCLICK HERE FOR CATALOG! \n  \n All types of collectables from stamps and die cast cars to Chinese figurines and Pokemon cards. Baseball cards\, Football cards\, quilt\, prints and More! Something for Everyone! \nTERMS: Cash\, check or credit card paid in full within 3 business days of end of auction. A 15% Buyers Premium is applied to all final bids\, 4% fee is also added if paying with a credit card. Information deemed reliable but not guaranteed. Announcements made day of sale supersede any and all printed or verbal statements made by the Owner’s or the Auction Co. Auctioneer presents all information in brochures\, catalogs\, and other advertisements from sources believed to be accurate\, and are not representations of the Auctioneer. Therefore\, prospective Buyers are urged to inspect the items to their own satisfaction. All items are sold “AS IS\, WHERE IS” with no warranties being implied or expressed. The items are available for public inspection. Any condition set forth on any item is in no way a warranty or guarantee\, actual or implied. We have not inspected\, graded or determined value for any item in this auction.\nThere is no shipping on any items\, must be able to pick up at Kennedy Real Estate & Auction\n1820 Chapman Highway\, Sevierville\, TN 37876. Pick up will be Tuesday\, November 17\, Wednesday Nov. 18 & Thursday Nov. 19. Anytime between 10:00AM and 5:00PM EST. \nThere is no shipping offered. Pick up is Tuesday\, November 17 from 10:00 AM to 5:00 PM\, \n Wednesday\, November 18 from 10:00 AM to 5:00 PM and \n Thursday\, November 19 from 10:00 AM to 5:00 PM (all EST) at our office \n1820 Chapman Highway\nSevierville\, TN 37876\n865-908-8611 \n 
URL:https://kennedyauctions.com/event/online-only-collectables-auction/
LOCATION:Kennedy Real Estate & Auction Co. LLC\, 1820 Chapman Highway\, Sevierville\, TN\, 37876\, United States
CATEGORIES:Auctions,Die Cast toy auction,Estate Auction,Online Only,Paintings / prints auction,Toys & Collectible auction,Trading card auction
END:VEVENT
END:VCALENDAR