BEGIN:VCALENDAR
VERSION:2.0
PRODID:-//Kennedy Real Estate and Auction LLC. - ECPv6.15.13//NONSGML v1.0//EN
CALSCALE:GREGORIAN
METHOD:PUBLISH
X-ORIGINAL-URL:https://kennedyauctions.com
X-WR-CALDESC:Events for Kennedy Real Estate and Auction LLC.
REFRESH-INTERVAL;VALUE=DURATION:PT1H
X-Robots-Tag:noindex
X-PUBLISHED-TTL:PT1H
BEGIN:VTIMEZONE
TZID:America/New_York
BEGIN:DAYLIGHT
TZOFFSETFROM:-0500
TZOFFSETTO:-0400
TZNAME:EDT
DTSTART:20240310T070000
END:DAYLIGHT
BEGIN:STANDARD
TZOFFSETFROM:-0400
TZOFFSETTO:-0500
TZNAME:EST
DTSTART:20241103T060000
END:STANDARD
BEGIN:DAYLIGHT
TZOFFSETFROM:-0500
TZOFFSETTO:-0400
TZNAME:EDT
DTSTART:20250309T070000
END:DAYLIGHT
BEGIN:STANDARD
TZOFFSETFROM:-0400
TZOFFSETTO:-0500
TZNAME:EST
DTSTART:20251102T060000
END:STANDARD
BEGIN:DAYLIGHT
TZOFFSETFROM:-0500
TZOFFSETTO:-0400
TZNAME:EDT
DTSTART:20260308T070000
END:DAYLIGHT
BEGIN:STANDARD
TZOFFSETFROM:-0400
TZOFFSETTO:-0500
TZNAME:EST
DTSTART:20261101T060000
END:STANDARD
END:VTIMEZONE
BEGIN:VEVENT
DTSTART;TZID=America/New_York:20250802T160000
DTEND;TZID=America/New_York:20250802T210000
DTSTAMP:20260423T031545
CREATED:20250715T181451Z
LAST-MODIFIED:20250728T195429Z
UID:15383-1754150400-1754168400@kennedyauctions.com
SUMMARY:ESTATE LIQUIDATION AUCTION
DESCRIPTION:ESTATE AUCTION \nSATURDAY\, AUGUST 2\, 2025 • 4:00 PM (EST) \n In Conjunction with Bear Land Realty & Auction \n3173 Newport Hwy – Sevierville\, TN 37876 \nTHE BANKS ESTATE   \nFeaturing Guns\, Knives\,  \n RC Cars\, John Deere 318 –50″ mower\,  \nPolaris Ranger UTV\, Club Car  \nGolf Cart\, Motorcycle Helmets\, and Much  \nMore!  \nFOR ONLINE BIDDING\, CLICK THE FOLLOWING LINK \nhttps://bearlandrealtyandauction.hibid.com/catalog/662956/-497-firearms-and-more-auction \nFOR MORE INFORMATION CALL 865-446-4714 \nTERMS: 13% BUYERS PREMIUM WILL BE ADDED TO ALL BIDS. 4% ON CREDIT CARDS. \nWINNING BIDDERS WILL PRESENT A VALID DRIVERS LICENSE AND SIGN A CREDIT CARD AUTHORIZATION. \nALL ITEMS ARE SOLD AS IS\, WHERE IS! WE DO NOT GUARANTEE THE VALUE\, CONDITION\, OR AUTHENTICITY OF ANY ITEM. ALL DESCRIPTIONS BELIEVED ACCURATE BUT NOT WARRANTED. BIDDER INSPECTION IS ENCOURAGED. BY PLACING A BID\, BIDDER SIGNIFIES THAT THEY HAVE EXAMINED THE ITEMS TO THEIR SATISFACTION\, OR THAT THEY HAVE CHOSEN NOT TO PERSONALLY EXAMINE THEM. \nAll ITEMS THAT ARE SOLD ARE PICKUP ONLY. THERE IS NO SHIPPING ON THESE ITEMS. THEY MUST BE PICKED UP AT BEAR LAND REALTY AND AUCTION 3173 NEWPORT HIGHWAY SEVIERVILLE\, TN 37876. MONDAY\, JULY 28TH – WEDNESDAY JULY 30TH BETWEEN 8:00-4:00PM! Bidders who purchase a firearm are required to do a background check. Bear Land Realty & Auction is a Licensed Federal Firearms Dealer.  \n  \n\n		\n		\n			\n				\n			\n			\n				\n			\n			\n				\n			\n			\n				\n			\n			\n				\n			\n			\n				\n			\n			\n				\n			\n			\n				\n			\n			\n				\n			\n			\n				\n			\n			\n				\n			\n			\n				\n			\n			\n				\n			\n			\n				\n			\n			\n				\n			\n			\n				\n			\n			\n				\n			\n			\n				\n			\n		\n\n 
URL:https://kennedyauctions.com/event/estate-liquidation-auction/
LOCATION:Bear Land Realty & Auction\, 3173 Newport Highway\, Sevierville\, TN\, 37876\, United States
CATEGORIES:Antiques,Auctions,Die Cast toy auction,Estate Auction,Firearms,Fishing equipment,Household Goods,Knives,Online & Live auction,Toys & Collectible auction
END:VEVENT
BEGIN:VEVENT
DTSTART;TZID=America/New_York:20250830T180000
DTEND;TZID=America/New_York:20250830T210000
DTSTAMP:20260423T031545
CREATED:20250822T203527Z
LAST-MODIFIED:20250822T212107Z
UID:15510-1756576800-1756587600@kennedyauctions.com
SUMMARY:LOG FURNITURE LIQUIDATION
DESCRIPTION:LOG FURNITURE LIQUIDATION!  \nSATURDAY\, AUGUST 30\, 2025 @ 6:00 PM (EST)  \nAT BEAR LAND REALTY AND AUCTION \n 3173 NEWPORT HWY\, SEVIERVILLE\, TN 37876  \nLiquidation of furniture out of 2 large log homes \, beautiful\, quality log bed frames\, a Jack Daniels keg table\, dressers\, night stands\, chairs\, bear lamp\, bear pictures plus decor so much more!! Don’t miss this tremendous auction!! \nFor more information\, please call 865-446-4714. or 865-908-8611. \n\n		\n		\n			\n				\n			\n			\n				\n			\n			\n				\n			\n			\n				\n			\n			\n				\n			\n			\n				\n			\n			\n				\n			\n			\n				\n			\n			\n				\n			\n			\n				\n			\n			\n				\n			\n			\n				\n			\n			\n				\n			\n			\n				\n			\n			\n				\n			\n			\n				\n			\n			\n				\n			\n			\n				\n			\n			\n				\n			\n			\n				\n			\n			\n				\n			\n			\n				\n			\n			\n				\n			\n			\n				\n			\n			\n				\n			\n			\n				\n			\n			\n				\n			\n			\n				\n			\n			\n				\n			\n			\n				\n			\n			\n				\n			\n			\n				\n			\n			\n				\n			\n			\n				\n			\n			\n				\n			\n			\n				\n			\n			\n				\n			\n			\n				\n			\n			\n				\n			\n			\n				\n			\n			\n		\n\n 
URL:https://kennedyauctions.com/event/log-furniture-liquidation/
LOCATION:Bear Land Realty & Auction\, 3173 Newport Highway\, Sevierville\, TN\, 37876\, United States
END:VEVENT
END:VCALENDAR