BEGIN:VCALENDAR
VERSION:2.0
PRODID:-//Kennedy Real Estate and Auction LLC. - ECPv6.15.13//NONSGML v1.0//EN
CALSCALE:GREGORIAN
METHOD:PUBLISH
X-WR-CALNAME:Kennedy Real Estate and Auction LLC.
X-ORIGINAL-URL:https://kennedyauctions.com
X-WR-CALDESC:Events for Kennedy Real Estate and Auction LLC.
REFRESH-INTERVAL;VALUE=DURATION:PT1H
X-Robots-Tag:noindex
X-PUBLISHED-TTL:PT1H
BEGIN:VTIMEZONE
TZID:America/New_York
BEGIN:DAYLIGHT
TZOFFSETFROM:-0500
TZOFFSETTO:-0400
TZNAME:EDT
DTSTART:20180311T070000
END:DAYLIGHT
BEGIN:STANDARD
TZOFFSETFROM:-0400
TZOFFSETTO:-0500
TZNAME:EST
DTSTART:20181104T060000
END:STANDARD
BEGIN:DAYLIGHT
TZOFFSETFROM:-0500
TZOFFSETTO:-0400
TZNAME:EDT
DTSTART:20190310T070000
END:DAYLIGHT
BEGIN:STANDARD
TZOFFSETFROM:-0400
TZOFFSETTO:-0500
TZNAME:EST
DTSTART:20191103T060000
END:STANDARD
BEGIN:DAYLIGHT
TZOFFSETFROM:-0500
TZOFFSETTO:-0400
TZNAME:EDT
DTSTART:20200308T070000
END:DAYLIGHT
BEGIN:STANDARD
TZOFFSETFROM:-0400
TZOFFSETTO:-0500
TZNAME:EST
DTSTART:20201101T060000
END:STANDARD
END:VTIMEZONE
BEGIN:VEVENT
DTSTART;TZID=America/New_York:20191109T103000
DTEND;TZID=America/New_York:20191109T170000
DTSTAMP:20260420T081728
CREATED:20191022T192533Z
LAST-MODIFIED:20191030T195938Z
UID:6595-1573295400-1573318800@kennedyauctions.com
SUMMARY:Absolute Estate Properties Auction
DESCRIPTION:ABSOLUTE ESTATE \nPROPERTIES \nAUCTION \nSATURDAY\, NOVEMBER 9\, 2019 • 10:30 AM  \nTHE ERNEST & BIRDELL YATES  \nESTATE PROPERTIES \n6 Properties- One Day- All to be Sold From  \n114 Black Oak Ridge Rd\, Seymour\, TN 37865 \nAUCTIONEERS COMMENTS: We have been commissioned by the Heirs to liquidate these 3 income producing properties\, plus 2 additional vacant building lots in the ever growing Seymour Community of Sevier County. And an additional LAKE FRONT property on the Flat Creek Channel of Douglas Lake. Lot #14 in Fox Vista Subdivision. All properties to be sold from the Seymour location. \nTERMS: A 10% non-refundable deposit of the contract price will be required day of sale. Each purchaser will also be required to sign a promissory note for the full purchase price which will become null and void upon closing of the sale. This property is being sold as is with no contingencies financial or other\, so please make any needed arrangements\, Closings will take place on or before 30 days from sale day. This is a 10% Buyers Premium auction. Information deemed reliable but not guaranteed. Announcements made day of sale supersede any and all printed or verbal statements made by the Owners or the Auction Co. \nNOTICE: Under U.S. c4582 (d) the purchaser of a single- family residence has a maximum of ten (10) days to conduct a risk assessment or inspection of the property for the presence of lead-based paint hazards. October 31\, 2019 begins this ten (10) day period. \nDIRECTIONS: TO SALE SITE- From the intersection of Chapman Highway (US-441) and Maryville Highway (US-411) take Maryville Highway approximately 0.55 miles to right onto Black Oak Ridge Rd\, follow signs to sale site on right. \nTO FOX VISTA LOT- From the intersection of Old Newport Highway & Dolly Parton Parkway (Walgreens & Weigel’s) take Dolly Parton Parkway approximately 2.8 miles to left onto Red Bud Lane\, go 2.25 miles to Fox Vista Drive\, Fox Vista Drive becomes Penelope Lane\, go another 0.35 miles to property on left. \nFor GPS purposes use 807 Penelope Lane\, Sevierville\, TN 37876 \n  \nOPEN HOUSE – FRIDAY\, NOVEMBER 8  \nFROM 3 TO 6PM \nOR BY APPOINTMENT ON HOMES\, LOTS CAN BE VIEWED ANYTIME. \n  \nCLICK HERE FOR MAP! \nCLICK HERE FOR 212 BLACK OAK RIDGE MAP! \n212 BLACK OAK RIDGE ROAD \n2 Bedroom\, 1 bath home with central heat & air. Presently leased for $400.00 per month until April 2020.  \n \n  \n108 BLACK OAK RIDGE ROAD \n3 Bedroom\, 1 bath home with central heat & air. Presently leased for $600.00 per month until April 2020. \n\n		\n		\n			\n				\n			\n			\n				\n			\n			\n				\n			\n			\n				\n			\n			\n		\n\n  \n114 BLACK OAK RIDGE ROAD \n 3 Bedroom\, 1 bath home with central heat & air. Presently leased for $600.00 per month until April 2020. \n\n		\n		\n			\n				\n			\n			\n				\n			\n			\n				\n			\n			\n				\n			\n			\n		\n\n  \nLOT #14 IN FOX VISTA SUBDIVISION \nLake Front lot on the Flat Creek Channel of Douglas Lake. \n  \nCLICK HERE FOR MAP OF FOX VISTA! \nCLICK HERE FOR FOX VISTA RESTRICTIONS \n\n		\n		\n			\n				\n			\n			\n				\n			\n			\n				\n			\n		\n\n  \n2 LOTS ON BLACK OAK RIDGE ROAD \n2 Vacant building lots in the ever growing Seymour Community!
URL:https://kennedyauctions.com/event/absolute-estate-properties-auction/
LOCATION:Ernest & Birdell Yates Estate Properties Auction\, 114 Black Oak Ridge Rd\, Seymour\, TN\, 37865
CATEGORIES:Auctions,Estate Auction,Multiple Property Auction,Property Auction
ATTACH;FMTTYPE=image/jpeg:https://kennedyauctions.com/wp-content/uploads/2019/10/IMG_2582.jpg
ORGANIZER;CN="":MAILTO:shirley@kennedyauctions.net
END:VEVENT
END:VCALENDAR